BEGIN:VCALENDAR
VERSION:2.0
PRODID:-//ISPCC - ECPv6.15.20//NONSGML v1.0//EN
CALSCALE:GREGORIAN
METHOD:PUBLISH
X-ORIGINAL-URL:https://www.ispcc.ie
X-WR-CALDESC:Events for ISPCC
REFRESH-INTERVAL;VALUE=DURATION:PT1H
X-Robots-Tag:noindex
X-PUBLISHED-TTL:PT1H
BEGIN:VTIMEZONE
TZID:Europe/Dublin
BEGIN:STANDARD
TZOFFSETFROM:+0000
TZOFFSETTO:+0100
TZNAME:IST
DTSTART:20250330T010000
END:STANDARD
BEGIN:DAYLIGHT
TZOFFSETFROM:+0100
TZOFFSETTO:+0000
TZNAME:GMT
DTSTART:20251026T010000
END:DAYLIGHT
BEGIN:STANDARD
TZOFFSETFROM:+0000
TZOFFSETTO:+0100
TZNAME:IST
DTSTART:20260329T010000
END:STANDARD
BEGIN:DAYLIGHT
TZOFFSETFROM:+0100
TZOFFSETTO:+0000
TZNAME:GMT
DTSTART:20261025T010000
END:DAYLIGHT
BEGIN:STANDARD
TZOFFSETFROM:+0000
TZOFFSETTO:+0100
TZNAME:IST
DTSTART:20270328T010000
END:STANDARD
BEGIN:DAYLIGHT
TZOFFSETFROM:+0100
TZOFFSETTO:+0000
TZNAME:GMT
DTSTART:20271031T010000
END:DAYLIGHT
END:VTIMEZONE
BEGIN:VEVENT
DTSTART;TZID=Europe/Dublin:20261025T090000
DTEND;TZID=Europe/Dublin:20261025T170000
DTSTAMP:20260420T182407
CREATED:20251016T134711Z
LAST-MODIFIED:20260302T095920Z
UID:34842-1792918800-1792947600@www.ispcc.ie
SUMMARY:Irish Life Dublin Marathon 2026
DESCRIPTION:Abseil Challenge for Childline 2025				\n				\n					\n				\n		\n					\n				\n				\n																														\n				\n					\n				\n		\n					\n				\n				\n									Are you ready to take on the Croke Park Abseil challenge on June 12th?You’ll drop nearly 150 feet (44 meters) from the roof of one of Ireland’s most iconic locations\, all while supporting Childline. 								\n				\n					\n				\n		\n					\n				\n				\n									\n					\n						\n									Get Started\n					\n					\n				\n								\n				\n					\n				\n		\n					\n				\n				\n									Why Participate?Your fundraising efforts will support the ISPCC\, helping us provide vital services to children and young people who need support. What’s InvolvedExperience: Join us on Thursday\, June 12th\, where you’ll safely abseil down Croke Park with professional supervision.Preparation: Attend a pre-event briefing to learn about safety and get your questions answered.How to Get StartedRegister Now:  Go to the iDonate fundraising platform and simply click register to create your fundraising page.Set a Goal: We recommend aiming to raise at least €350\, in addition to your €50 deposit.Join in: You can participate by yourself\, with friends or family\, or with work colleagues. Be warned though that places are limited so secure your spot by registering as soon as possible.Get Fundraising: After registering on iDonate your fundraising page will be created automatically. Share your fundraising page with friends and family who can donate to your page via card.Questions?If you have any questions\, please reach out to us at corporate@ispcc.ie. Join us in making a difference for children across Ireland! 								\n				\n					\n				\n		\n					\n				\n				\n									\n					\n						\n									Get Started\n					\n					\n				\n								\n				\n					\n				\n		\n					\n				\n				\n							\n					\n					\n						\n					\n			\n						\n				\n							\n					Let's Be There For Every Child\n				\n					\n				Who Is Alone			\n					\n				Who Is Suffering			\n					\n				Who Reaches Out			\n					\n							\n					\n							\n						\n				\n						\n				\n					\n		\n					\n		\n				\n				\n						\n				\n					\n				\n		\n					\n				\n				\n							\n					\n					\n						\n					\n			\n						\n				\n					Why your support matters so much?				\n				\n				\n				\n							\n			\n		\n						\n				\n				\n				\n					We are almost entirely funded by the public. With your support we can continue to 				\n				\n				\n				\n							\n			\n		\n						\n				\n				\n						\n					\n			\n						\n				\n							\n\n						\n				\n								\n			\n			\n						\n\n									\n						\n							Build Skills In Resilience and Empathy						\n					\n				\n				\n			\n			\n		\n						\n				\n				\n				\n							\n			\n		\n						\n				\n					\n		\n				\n			\n						\n				\n							\n\n						\n				\n								\n			\n			\n						\n\n									\n						\n							Be Available 24/7 365 days a year no matter the issue						\n					\n				\n				\n			\n			\n		\n						\n				\n				\n				\n							\n			\n		\n						\n				\n					\n		\n				\n			\n						\n				\n							\n\n						\n				\n								\n			\n			\n						\n\n									\n						\n							Combat Online Risks and Cyberbullying						\n					\n				\n				\n			\n			\n		\n						\n				\n				\n				\n							\n			\n		\n						\n				\n					\n		\n				\n			\n						\n				\n							\n\n						\n				\n								\n			\n			\n						\n\n									\n						\n							Provide A Range Of  Services in Schools Across Ireland 						\n					\n				\n				\n			\n			\n		\n						\n				\n				\n				\n							\n			\n		\n						\n				\n					\n		\n				\n			\n						\n				\n							\n\n						\n				\n								\n			\n			\n						\n\n									\n						\n							Promote Policy Changes to Safeguard Children
URL:https://www.ispcc.ie/event/irish-life-dublin-marathon-2026/
ATTACH;FMTTYPE=image/png:https://www.ispcc.ie/wp-content/uploads/2025/10/DCM-2026_websitebanner-scaled.png
END:VEVENT
END:VCALENDAR